BEGIN:VCALENDAR
VERSION:2.0
PRODID:-//Carden Conejo School - ECPv6.15.17.1//NONSGML v1.0//EN
CALSCALE:GREGORIAN
METHOD:PUBLISH
X-WR-CALNAME:Carden Conejo School
X-ORIGINAL-URL:https://cardenconejo.com
X-WR-CALDESC:Events for Carden Conejo School
REFRESH-INTERVAL;VALUE=DURATION:PT1H
X-Robots-Tag:noindex
X-PUBLISHED-TTL:PT1H
BEGIN:VTIMEZONE
TZID:America/Los_Angeles
BEGIN:DAYLIGHT
TZOFFSETFROM:-0800
TZOFFSETTO:-0700
TZNAME:PDT
DTSTART:20240310T100000
END:DAYLIGHT
BEGIN:STANDARD
TZOFFSETFROM:-0700
TZOFFSETTO:-0800
TZNAME:PST
DTSTART:20241103T090000
END:STANDARD
BEGIN:DAYLIGHT
TZOFFSETFROM:-0800
TZOFFSETTO:-0700
TZNAME:PDT
DTSTART:20250309T100000
END:DAYLIGHT
BEGIN:STANDARD
TZOFFSETFROM:-0700
TZOFFSETTO:-0800
TZNAME:PST
DTSTART:20251102T090000
END:STANDARD
BEGIN:DAYLIGHT
TZOFFSETFROM:-0800
TZOFFSETTO:-0700
TZNAME:PDT
DTSTART:20260308T100000
END:DAYLIGHT
BEGIN:STANDARD
TZOFFSETFROM:-0700
TZOFFSETTO:-0800
TZNAME:PST
DTSTART:20261101T090000
END:STANDARD
END:VTIMEZONE
BEGIN:VEVENT
DTSTART;VALUE=DATE:20251006
DTEND;VALUE=DATE:20251007
DTSTAMP:20260425T055226
CREATED:20250821T021333Z
LAST-MODIFIED:20250821T021333Z
UID:1429-1759708800-1759795199@cardenconejo.com
SUMMARY:Staff Meeting - No Study Hall
DESCRIPTION:
URL:https://cardenconejo.com/event/staff-meeting-no-study-hall-2/
CATEGORIES:Carden
END:VEVENT
BEGIN:VEVENT
DTSTART;VALUE=DATE:20251006
DTEND;VALUE=DATE:20251007
DTSTAMP:20260425T055226
CREATED:20251006T224520Z
LAST-MODIFIED:20251006T224520Z
UID:2213-1759708800-1759795199@cardenconejo.com
SUMMARY:End of 2nd Trimester
DESCRIPTION:
URL:https://cardenconejo.com/event/end-of-2nd-trimester/
CATEGORIES:Carden
END:VEVENT
BEGIN:VEVENT
DTSTART;TZID=America/Los_Angeles:20251008T080000
DTEND;TZID=America/Los_Angeles:20251008T163000
DTSTAMP:20260425T055226
CREATED:20250923T193651Z
LAST-MODIFIED:20250923T193651Z
UID:1767-1759910400-1759941000@cardenconejo.com
SUMMARY:Ribbon Cutting Ceremony
DESCRIPTION:
URL:https://cardenconejo.com/event/ribbon-cutting-ceremony/
CATEGORIES:Carden
END:VEVENT
BEGIN:VEVENT
DTSTART;VALUE=DATE:20251019
DTEND;VALUE=DATE:20251020
DTSTAMP:20260425T055226
CREATED:20250923T195901Z
LAST-MODIFIED:20250923T195901Z
UID:1770-1760832000-1760918399@cardenconejo.com
SUMMARY:T.O. Street Fair
DESCRIPTION:
URL:https://cardenconejo.com/event/t-o-street-fair/
CATEGORIES:Carden
END:VEVENT
BEGIN:VEVENT
DTSTART;VALUE=DATE:20251024
DTEND;VALUE=DATE:20251025
DTSTAMP:20260425T055226
CREATED:20250821T021748Z
LAST-MODIFIED:20250821T021748Z
UID:1437-1761264000-1761350399@cardenconejo.com
SUMMARY:Halloween Costume Day & Assembly
DESCRIPTION:Noon Dismissal
URL:https://cardenconejo.com/event/halloween-costume-day-assembly/
CATEGORIES:Carden
END:VEVENT
BEGIN:VEVENT
DTSTART;VALUE=DATE:20251028
DTEND;VALUE=DATE:20251029
DTSTAMP:20260425T055226
CREATED:20250821T021459Z
LAST-MODIFIED:20250923T195606Z
UID:1433-1761609600-1761695999@cardenconejo.com
SUMMARY:Student - Teacher Portraits
DESCRIPTION:
URL:https://cardenconejo.com/event/student-teacher-portraits/
CATEGORIES:Carden
END:VEVENT
END:VCALENDAR