BEGIN:VCALENDAR
VERSION:2.0
PRODID:-//Carden Conejo School - ECPv6.15.17.1//NONSGML v1.0//EN
CALSCALE:GREGORIAN
METHOD:PUBLISH
X-WR-CALNAME:Carden Conejo School
X-ORIGINAL-URL:https://cardenconejo.com
X-WR-CALDESC:Events for Carden Conejo School
REFRESH-INTERVAL;VALUE=DURATION:PT1H
X-Robots-Tag:noindex
X-PUBLISHED-TTL:PT1H
BEGIN:VTIMEZONE
TZID:America/Los_Angeles
BEGIN:DAYLIGHT
TZOFFSETFROM:-0800
TZOFFSETTO:-0700
TZNAME:PDT
DTSTART:20240310T100000
END:DAYLIGHT
BEGIN:STANDARD
TZOFFSETFROM:-0700
TZOFFSETTO:-0800
TZNAME:PST
DTSTART:20241103T090000
END:STANDARD
BEGIN:DAYLIGHT
TZOFFSETFROM:-0800
TZOFFSETTO:-0700
TZNAME:PDT
DTSTART:20250309T100000
END:DAYLIGHT
BEGIN:STANDARD
TZOFFSETFROM:-0700
TZOFFSETTO:-0800
TZNAME:PST
DTSTART:20251102T090000
END:STANDARD
BEGIN:DAYLIGHT
TZOFFSETFROM:-0800
TZOFFSETTO:-0700
TZNAME:PDT
DTSTART:20260308T100000
END:DAYLIGHT
BEGIN:STANDARD
TZOFFSETFROM:-0700
TZOFFSETTO:-0800
TZNAME:PST
DTSTART:20261101T090000
END:STANDARD
END:VTIMEZONE
BEGIN:VEVENT
DTSTART;VALUE=DATE:20251103
DTEND;VALUE=DATE:20251104
DTSTAMP:20260425T042324
CREATED:20250821T022518Z
LAST-MODIFIED:20250821T022518Z
UID:1447-1762128000-1762214399@cardenconejo.com
SUMMARY:Staff Meeting - No Study Hall
DESCRIPTION:
URL:https://cardenconejo.com/event/staff-meeting-no-study-hall-3/
CATEGORIES:Carden
END:VEVENT
BEGIN:VEVENT
DTSTART;TZID=America/Los_Angeles:20251104T180000
DTEND;TZID=America/Los_Angeles:20251104T200000
DTSTAMP:20260425T042324
CREATED:20250923T200056Z
LAST-MODIFIED:20250923T200056Z
UID:1774-1762279200-1762286400@cardenconejo.com
SUMMARY:Admissions Open House
DESCRIPTION:
URL:https://cardenconejo.com/event/admissions-open-house-2/
CATEGORIES:Carden
END:VEVENT
BEGIN:VEVENT
DTSTART;VALUE=DATE:20251107
DTEND;VALUE=DATE:20251108
DTSTAMP:20260425T042324
CREATED:20250821T022651Z
LAST-MODIFIED:20250821T022651Z
UID:1451-1762473600-1762559999@cardenconejo.com
SUMMARY:Veteran's Day Assembly
DESCRIPTION:
URL:https://cardenconejo.com/event/veterans-day-assembly/
CATEGORIES:Carden
END:VEVENT
BEGIN:VEVENT
DTSTART;VALUE=DATE:20251114
DTEND;VALUE=DATE:20251115
DTSTAMP:20260425T042324
CREATED:20251006T221552Z
LAST-MODIFIED:20251006T221552Z
UID:2185-1763078400-1763164799@cardenconejo.com
SUMMARY:End of First Trimester
DESCRIPTION:
URL:https://cardenconejo.com/event/end-of-first-trimester/
CATEGORIES:Carden
END:VEVENT
BEGIN:VEVENT
DTSTART;VALUE=DATE:20251127
DTEND;VALUE=DATE:20251128
DTSTAMP:20260425T042324
CREATED:20251006T221716Z
LAST-MODIFIED:20251006T221803Z
UID:2187-1764201600-1764287999@cardenconejo.com
SUMMARY:Thanksgiving Day
DESCRIPTION:
URL:https://cardenconejo.com/event/thanksgiving-day/
CATEGORIES:Carden
END:VEVENT
BEGIN:VEVENT
DTSTART;VALUE=DATE:20251127
DTEND;VALUE=DATE:20251128
DTSTAMP:20260425T042324
CREATED:20251006T221947Z
LAST-MODIFIED:20251006T221947Z
UID:2189-1764201600-1764287999@cardenconejo.com
SUMMARY:Turkey Day Dash
DESCRIPTION:
URL:https://cardenconejo.com/event/turkey-day-dash/
CATEGORIES:Carden
END:VEVENT
END:VCALENDAR